BEGIN:VCALENDAR
VERSION:2.0
PRODID:-//Suicide Awareness &amp; Support for Suicide Loss Survivors - ECPv4.6.25//NONSGML v1.0//EN
CALSCALE:GREGORIAN
METHOD:PUBLISH
X-WR-CALNAME:Suicide Awareness &amp; Support for Suicide Loss Survivors
X-ORIGINAL-URL:http://suicideawareness.ca
X-WR-CALDESC:Events for Suicide Awareness &amp; Support for Suicide Loss Survivors
BEGIN:VEVENT
DTSTART;TZID=America/Vancouver:20191118T180000
DTEND;TZID=America/Vancouver:20191118T193000
DTSTAMP:20260424T065802
CREATED:20190716T062848Z
LAST-MODIFIED:20190716T062848Z
UID:670-1574100000-1574105400@suicideawareness.ca
SUMMARY:Bereavement Support Group
DESCRIPTION:Facilitated by Okanagan Suicide Awareness Society \nSuicide support group for those who have lost a loved one to suicide \n\nFree for individuals (18+) who have lost loved ones to suicide.\nThis is an opportunity to connect and share in a safe and supportive environment with others who understand your grief\nGroup is Drop-In style (RSVP is not required however appreciated)\nNew members welcome every month\nDonations are welcome\n\nTo RSVP or for more information\, please contact Jenn\nCall / text: (250) 300-7990\nEmail: info@suicideawareness.ca\nFacebook: Surviving Our Loves Ones Suicide: SOLOS Okanagan \n
URL:http://suicideawareness.ca/event/bereavement-support-group-5/
LOCATION:Trinity Baptist\, 1905 Springfield Road\, Kelowna\, BC\, Canada
ORGANIZER;CN="Jenn%20Paquette":MAILTO:info@suicideawareness.ca
END:VEVENT
END:VCALENDAR